BEGIN:VCALENDAR
VERSION:2.0
PRODID:-//DeSmet Public School - ECPv6.15.20//NONSGML v1.0//EN
CALSCALE:GREGORIAN
METHOD:PUBLISH
X-ORIGINAL-URL:https://desmetschool.org
X-WR-CALDESC:Events for DeSmet Public School
REFRESH-INTERVAL;VALUE=DURATION:PT1H
X-Robots-Tag:noindex
X-PUBLISHED-TTL:PT1H
BEGIN:VTIMEZONE
TZID:America/Denver
BEGIN:DAYLIGHT
TZOFFSETFROM:-0700
TZOFFSETTO:-0600
TZNAME:MDT
DTSTART:20250309T090000
END:DAYLIGHT
BEGIN:STANDARD
TZOFFSETFROM:-0600
TZOFFSETTO:-0700
TZNAME:MST
DTSTART:20251102T080000
END:STANDARD
BEGIN:DAYLIGHT
TZOFFSETFROM:-0700
TZOFFSETTO:-0600
TZNAME:MDT
DTSTART:20260308T090000
END:DAYLIGHT
BEGIN:STANDARD
TZOFFSETFROM:-0600
TZOFFSETTO:-0700
TZNAME:MST
DTSTART:20261101T080000
END:STANDARD
BEGIN:DAYLIGHT
TZOFFSETFROM:-0700
TZOFFSETTO:-0600
TZNAME:MDT
DTSTART:20270314T090000
END:DAYLIGHT
BEGIN:STANDARD
TZOFFSETFROM:-0600
TZOFFSETTO:-0700
TZNAME:MST
DTSTART:20271107T080000
END:STANDARD
END:VTIMEZONE
BEGIN:VEVENT
DTSTART;TZID=America/Denver:20260501T080000
DTEND;TZID=America/Denver:20260501T160000
DTSTAMP:20260424T114142
CREATED:20250626T173948Z
LAST-MODIFIED:20250626T173948Z
UID:31986-1777622400-1777651200@desmetschool.org
SUMMARY:No School
DESCRIPTION:
URL:https://desmetschool.org/event/no-school-19/
END:VEVENT
BEGIN:VEVENT
DTSTART;TZID=America/Denver:20260506T173000
DTEND;TZID=America/Denver:20260506T190000
DTSTAMP:20260424T114142
CREATED:20260423T164421Z
LAST-MODIFIED:20260423T164421Z
UID:32785-1778088600-1778094000@desmetschool.org
SUMMARY:Career/Stem Night
DESCRIPTION:CareerSTEM Flyer
URL:https://desmetschool.org/event/career-stem-night/
END:VEVENT
BEGIN:VEVENT
DTSTART;TZID=America/Denver:20260520T143000
DTEND;TZID=America/Denver:20260520T163000
DTSTAMP:20260424T114142
CREATED:20260423T164529Z
LAST-MODIFIED:20260423T164529Z
UID:32787-1779287400-1779294600@desmetschool.org
SUMMARY:Pop-Up Immunization Clinic
DESCRIPTION:doc03797520260422095131
URL:https://desmetschool.org/event/pop-up-immunization-clinic/
END:VEVENT
BEGIN:VEVENT
DTSTART;TZID=America/Denver:20260521T130000
DTEND;TZID=America/Denver:20260521T143000
DTSTAMP:20260424T114142
CREATED:20251202T161218Z
LAST-MODIFIED:20260319T153706Z
UID:32475-1779368400-1779373800@desmetschool.org
SUMMARY:Pre K - 8th grade Spring Concert @1:00
DESCRIPTION:There will be no bus service in the afternoon. Parents or guardians must pick up their students after the program. If your student attends the Boys and Girls Club\, they may be dropped off there after the program.
URL:https://desmetschool.org/event/pre-k-8th-grade-spring-concert-100/
END:VEVENT
BEGIN:VEVENT
DTSTART;TZID=America/Denver:20260525T081700
DTEND;TZID=America/Denver:20260525T081700
DTSTAMP:20260424T114142
CREATED:20250626T173858Z
LAST-MODIFIED:20250626T173858Z
UID:31984-1779697020-1779697020@desmetschool.org
SUMMARY:No School ~ Labor Day
DESCRIPTION:
URL:https://desmetschool.org/event/no-school-labor-day-4/
END:VEVENT
BEGIN:VEVENT
DTSTART;TZID=America/Denver:20260527T140000
DTEND;TZID=America/Denver:20260527T170000
DTSTAMP:20260424T114142
CREATED:20260423T164937Z
LAST-MODIFIED:20260423T164937Z
UID:32789-1779890400-1779901200@desmetschool.org
SUMMARY:Health Fair
DESCRIPTION:doc03797620260422095156
URL:https://desmetschool.org/event/health-fair/
END:VEVENT
END:VCALENDAR