BEGIN:VCALENDAR
VERSION:2.0
PRODID:-//DeSmet Public School - ECPv6.15.20//NONSGML v1.0//EN
CALSCALE:GREGORIAN
METHOD:PUBLISH
X-ORIGINAL-URL:https://desmetschool.org
X-WR-CALDESC:Events for DeSmet Public School
REFRESH-INTERVAL;VALUE=DURATION:PT1H
X-Robots-Tag:noindex
X-PUBLISHED-TTL:PT1H
BEGIN:VTIMEZONE
TZID:America/Denver
BEGIN:DAYLIGHT
TZOFFSETFROM:-0700
TZOFFSETTO:-0600
TZNAME:MDT
DTSTART:20250309T090000
END:DAYLIGHT
BEGIN:STANDARD
TZOFFSETFROM:-0600
TZOFFSETTO:-0700
TZNAME:MST
DTSTART:20251102T080000
END:STANDARD
BEGIN:DAYLIGHT
TZOFFSETFROM:-0700
TZOFFSETTO:-0600
TZNAME:MDT
DTSTART:20260308T090000
END:DAYLIGHT
BEGIN:STANDARD
TZOFFSETFROM:-0600
TZOFFSETTO:-0700
TZNAME:MST
DTSTART:20261101T080000
END:STANDARD
BEGIN:DAYLIGHT
TZOFFSETFROM:-0700
TZOFFSETTO:-0600
TZNAME:MDT
DTSTART:20270314T090000
END:DAYLIGHT
BEGIN:STANDARD
TZOFFSETFROM:-0600
TZOFFSETTO:-0700
TZNAME:MST
DTSTART:20271107T080000
END:STANDARD
END:VTIMEZONE
BEGIN:VEVENT
DTSTART;TZID=America/Denver:20260304T140000
DTEND;TZID=America/Denver:20260304T150000
DTSTAMP:20260424T114142
CREATED:20260219T161051Z
LAST-MODIFIED:20260219T161051Z
UID:32647-1772632800-1772636400@desmetschool.org
SUMMARY:5-8 Science Fair
DESCRIPTION:Open to families @ DeSmet 2-3
URL:https://desmetschool.org/event/5-8-science-fair/
END:VEVENT
BEGIN:VEVENT
DTSTART;TZID=America/Denver:20260305T084500
DTEND;TZID=America/Denver:20260305T094500
DTSTAMP:20260424T114142
CREATED:20260219T161153Z
LAST-MODIFIED:20260219T161153Z
UID:32649-1772700300-1772703900@desmetschool.org
SUMMARY:Class and Spring Pictures
DESCRIPTION:
URL:https://desmetschool.org/event/class-and-spring-pictures/
END:VEVENT
BEGIN:VEVENT
DTSTART;TZID=America/Denver:20260312T170000
DTEND;TZID=America/Denver:20260312T190000
DTSTAMP:20260424T114142
CREATED:20251202T160932Z
LAST-MODIFIED:20251202T160932Z
UID:32473-1773334800-1773342000@desmetschool.org
SUMMARY:ELA Night
DESCRIPTION:
URL:https://desmetschool.org/event/ela-night-2/
END:VEVENT
BEGIN:VEVENT
DTSTART;TZID=America/Denver:20260313T080000
DTEND;TZID=America/Denver:20260313T160000
DTSTAMP:20260424T114142
CREATED:20250626T174123Z
LAST-MODIFIED:20250626T174123Z
UID:31992-1773388800-1773417600@desmetschool.org
SUMMARY:No School
DESCRIPTION:
URL:https://desmetschool.org/event/no-school-22/
END:VEVENT
BEGIN:VEVENT
DTSTART;TZID=America/Denver:20260331T081700
DTEND;TZID=America/Denver:20260331T081700
DTSTAMP:20260424T114142
CREATED:20250626T174203Z
LAST-MODIFIED:20250626T174203Z
UID:31994-1774945020-1774945020@desmetschool.org
SUMMARY:End of 3rd Quarter
DESCRIPTION:
URL:https://desmetschool.org/event/end-of-3rd-quarter-3/
END:VEVENT
END:VCALENDAR