BEGIN:VCALENDAR
VERSION:2.0
PRODID:-//DeSmet Public School - ECPv6.15.20//NONSGML v1.0//EN
CALSCALE:GREGORIAN
METHOD:PUBLISH
X-ORIGINAL-URL:https://desmetschool.org
X-WR-CALDESC:Events for DeSmet Public School
REFRESH-INTERVAL;VALUE=DURATION:PT1H
X-Robots-Tag:noindex
X-PUBLISHED-TTL:PT1H
BEGIN:VTIMEZONE
TZID:America/Denver
BEGIN:DAYLIGHT
TZOFFSETFROM:-0700
TZOFFSETTO:-0600
TZNAME:MDT
DTSTART:20240310T090000
END:DAYLIGHT
BEGIN:STANDARD
TZOFFSETFROM:-0600
TZOFFSETTO:-0700
TZNAME:MST
DTSTART:20241103T080000
END:STANDARD
BEGIN:DAYLIGHT
TZOFFSETFROM:-0700
TZOFFSETTO:-0600
TZNAME:MDT
DTSTART:20250309T090000
END:DAYLIGHT
BEGIN:STANDARD
TZOFFSETFROM:-0600
TZOFFSETTO:-0700
TZNAME:MST
DTSTART:20251102T080000
END:STANDARD
BEGIN:DAYLIGHT
TZOFFSETFROM:-0700
TZOFFSETTO:-0600
TZNAME:MDT
DTSTART:20260308T090000
END:DAYLIGHT
BEGIN:STANDARD
TZOFFSETFROM:-0600
TZOFFSETTO:-0700
TZNAME:MST
DTSTART:20261101T080000
END:STANDARD
END:VTIMEZONE
BEGIN:VEVENT
DTSTART;TZID=America/Denver:20250206T123000
DTEND;TZID=America/Denver:20250206T190000
DTSTAMP:20260425T075210
CREATED:20241031T152124Z
LAST-MODIFIED:20241031T152124Z
UID:30683-1738845000-1738868400@desmetschool.org
SUMMARY:Early Release
DESCRIPTION:Release at 12:30. Buses will be running. B&G club will start at 12:30.
URL:https://desmetschool.org/event/early-release-2/
END:VEVENT
BEGIN:VEVENT
DTSTART;TZID=America/Denver:20250206T124500
DTEND;TZID=America/Denver:20250206T190000
DTSTAMP:20260425T075210
CREATED:20241031T151955Z
LAST-MODIFIED:20241031T151955Z
UID:30681-1738845900-1738868400@desmetschool.org
SUMMARY:Parent/Teacher Conferences
DESCRIPTION:
URL:https://desmetschool.org/event/parent-teacher-conferences-3/
END:VEVENT
BEGIN:VEVENT
DTSTART;TZID=America/Denver:20250207T080000
DTEND;TZID=America/Denver:20250207T160000
DTSTAMP:20260425T075210
CREATED:20241031T152407Z
LAST-MODIFIED:20241031T152407Z
UID:30685-1738915200-1738944000@desmetschool.org
SUMMARY:No School
DESCRIPTION:
URL:https://desmetschool.org/event/no-school-12/
END:VEVENT
BEGIN:VEVENT
DTSTART;TZID=America/Denver:20250217T080000
DTEND;TZID=America/Denver:20250217T160000
DTSTAMP:20260425T075210
CREATED:20241031T152445Z
LAST-MODIFIED:20241031T152445Z
UID:30687-1739779200-1739808000@desmetschool.org
SUMMARY:No School
DESCRIPTION:
URL:https://desmetschool.org/event/no-school-13/
END:VEVENT
BEGIN:VEVENT
DTSTART;TZID=America/Denver:20250226T141500
DTEND;TZID=America/Denver:20250226T151500
DTSTAMP:20260425T075210
CREATED:20250220T174048Z
LAST-MODIFIED:20250220T174048Z
UID:31400-1740579300-1740582900@desmetschool.org
SUMMARY:5-8 grade School Science Fair in the DeSmet Cafeteria
DESCRIPTION:
URL:https://desmetschool.org/event/5-8-grade-school-science-fair-in-the-desmet-cafeteria/
END:VEVENT
END:VCALENDAR