BEGIN:VCALENDAR
VERSION:2.0
PRODID:-//DeSmet Public School - ECPv6.15.20//NONSGML v1.0//EN
CALSCALE:GREGORIAN
METHOD:PUBLISH
X-WR-CALNAME:DeSmet Public School
X-ORIGINAL-URL:https://desmetschool.org
X-WR-CALDESC:Events for DeSmet Public School
REFRESH-INTERVAL;VALUE=DURATION:PT1H
X-Robots-Tag:noindex
X-PUBLISHED-TTL:PT1H
BEGIN:VTIMEZONE
TZID:America/Denver
BEGIN:DAYLIGHT
TZOFFSETFROM:-0700
TZOFFSETTO:-0600
TZNAME:MDT
DTSTART:20220313T090000
END:DAYLIGHT
BEGIN:STANDARD
TZOFFSETFROM:-0600
TZOFFSETTO:-0700
TZNAME:MST
DTSTART:20221106T080000
END:STANDARD
BEGIN:DAYLIGHT
TZOFFSETFROM:-0700
TZOFFSETTO:-0600
TZNAME:MDT
DTSTART:20230312T090000
END:DAYLIGHT
BEGIN:STANDARD
TZOFFSETFROM:-0600
TZOFFSETTO:-0700
TZNAME:MST
DTSTART:20231105T080000
END:STANDARD
BEGIN:DAYLIGHT
TZOFFSETFROM:-0700
TZOFFSETTO:-0600
TZNAME:MDT
DTSTART:20240310T090000
END:DAYLIGHT
BEGIN:STANDARD
TZOFFSETFROM:-0600
TZOFFSETTO:-0700
TZNAME:MST
DTSTART:20241103T080000
END:STANDARD
BEGIN:DAYLIGHT
TZOFFSETFROM:-0700
TZOFFSETTO:-0600
TZNAME:MDT
DTSTART:20250309T090000
END:DAYLIGHT
BEGIN:STANDARD
TZOFFSETFROM:-0600
TZOFFSETTO:-0700
TZNAME:MST
DTSTART:20251102T080000
END:STANDARD
END:VTIMEZONE
BEGIN:VEVENT
DTSTART;TZID=America/Denver:20240828T081700
DTEND;TZID=America/Denver:20240828T081700
DTSTAMP:20260425T081215
CREATED:20240625T183844Z
LAST-MODIFIED:20240625T183844Z
UID:30007-1724833020-1724833020@desmetschool.org
SUMMARY:First Day of School
DESCRIPTION:
URL:https://desmetschool.org/event/first-day-of-school/
END:VEVENT
BEGIN:VEVENT
DTSTART;TZID=America/Denver:20240826T150000
DTEND;TZID=America/Denver:20240826T170000
DTSTAMP:20260425T081215
CREATED:20240625T183743Z
LAST-MODIFIED:20240625T183743Z
UID:30005-1724684400-1724691600@desmetschool.org
SUMMARY:Ice Cream Social and Open House 3-5
DESCRIPTION:Parents and students this is a free event. Come have some ice cream\, meet your teacher and see your classroom!
URL:https://desmetschool.org/event/ice-cream-social-and-open-house-3-5/
END:VEVENT
BEGIN:VEVENT
DTSTART;TZID=America/Denver:20240607T113000
DTEND;TZID=America/Denver:20240607T113000
DTSTAMP:20260425T081215
CREATED:20230922T200710Z
LAST-MODIFIED:20230922T200744Z
UID:28427-1717759800-1717759800@desmetschool.org
SUMMARY:Last Day of School ~ Release is at 11:30
DESCRIPTION:Buses will leave the school at 11:35.
URL:https://desmetschool.org/event/last-day-of-school-release-is-at-1130/
END:VEVENT
BEGIN:VEVENT
DTSTART;TZID=America/Denver:20240606T180000
DTEND;TZID=America/Denver:20240606T190000
DTSTAMP:20260425T081215
CREATED:20240315T161142Z
LAST-MODIFIED:20240603T155305Z
UID:29667-1717696800-1717700400@desmetschool.org
SUMMARY:8th Grade Graduation 6:00pm
DESCRIPTION:Graduation is at 6:00 pm in the school gym. This is the last day of school for the 8th grade students.
URL:https://desmetschool.org/event/8th-grade-graduation/
END:VEVENT
BEGIN:VEVENT
DTSTART;TZID=America/Denver:20240606T090000
DTEND;TZID=America/Denver:20240606T120000
DTSTAMP:20260425T081215
CREATED:20240429T213053Z
LAST-MODIFIED:20240429T213053Z
UID:29872-1717664400-1717675200@desmetschool.org
SUMMARY:K1 & Kindergarten Round Up
DESCRIPTION:
URL:https://desmetschool.org/event/k1-kindergarten-round-up-2/
END:VEVENT
BEGIN:VEVENT
DTSTART;TZID=America/Denver:20240605T140000
DTEND;TZID=America/Denver:20240605T153000
DTSTAMP:20260425T081215
CREATED:20240603T154926Z
LAST-MODIFIED:20240603T154926Z
UID:29981-1717596000-1717601400@desmetschool.org
SUMMARY:K1 and Kindergarten promotion is @2:00
DESCRIPTION:This is the last day of K1 and Kindergarten.
URL:https://desmetschool.org/event/k1-and-kindergarten-promotion-is-200/
END:VEVENT
BEGIN:VEVENT
DTSTART;TZID=America/Denver:20240605T081700
DTEND;TZID=America/Denver:20240605T153000
DTSTAMP:20260425T081215
CREATED:20240315T161734Z
LAST-MODIFIED:20240315T161734Z
UID:29670-1717575420-1717601400@desmetschool.org
SUMMARY:Last day of school for K1 & Kindergarten
DESCRIPTION:
URL:https://desmetschool.org/event/last-day-of-school-for-k1-kindergarten/
END:VEVENT
BEGIN:VEVENT
DTSTART;TZID=America/Denver:20240527T080000
DTEND;TZID=America/Denver:20240527T170000
DTSTAMP:20260425T081215
CREATED:20230922T200517Z
LAST-MODIFIED:20230922T200517Z
UID:28425-1716796800-1716829200@desmetschool.org
SUMMARY:No School
DESCRIPTION:
URL:https://desmetschool.org/event/no-school-8/
END:VEVENT
BEGIN:VEVENT
DTSTART;TZID=America/Denver:20240518T090000
DTEND;TZID=America/Denver:20240518T120000
DTSTAMP:20260425T081215
CREATED:20240403T203421Z
LAST-MODIFIED:20240403T203421Z
UID:29741-1716022800-1716033600@desmetschool.org
SUMMARY:Smokejumpers' 5K Fun Run & DeSmet Dash 2.5K
DESCRIPTION:doc01007320240403133559
URL:https://desmetschool.org/event/smokejumpers-5k-fun-run-desmet-dash-2-5k/
END:VEVENT
BEGIN:VEVENT
DTSTART;TZID=America/Denver:20240503T080000
DTEND;TZID=America/Denver:20240503T160000
DTSTAMP:20260425T081215
CREATED:20230922T200454Z
LAST-MODIFIED:20230922T200454Z
UID:28422-1714723200-1714752000@desmetschool.org
SUMMARY:No School
DESCRIPTION:
URL:https://desmetschool.org/event/no-school-7/
END:VEVENT
BEGIN:VEVENT
DTSTART;TZID=America/Denver:20240422T080000
DTEND;TZID=America/Denver:20240422T160000
DTSTAMP:20260425T081215
CREATED:20230922T200419Z
LAST-MODIFIED:20230922T200419Z
UID:28420-1713772800-1713801600@desmetschool.org
SUMMARY:No School
DESCRIPTION:
URL:https://desmetschool.org/event/no-school-6/
END:VEVENT
BEGIN:VEVENT
DTSTART;TZID=America/Denver:20240416T170000
DTEND;TZID=America/Denver:20240416T190000
DTSTAMP:20260425T081215
CREATED:20240315T160704Z
LAST-MODIFIED:20240315T160704Z
UID:29663-1713286800-1713294000@desmetschool.org
SUMMARY:Math Night & Wax Museum
DESCRIPTION:doc00945120240315093011doc00945220240315093028
URL:https://desmetschool.org/event/math-night-wax-museum/
END:VEVENT
BEGIN:VEVENT
DTSTART;TZID=America/Denver:20240403T080000
DTEND;TZID=America/Denver:20240403T160000
DTSTAMP:20260425T081215
CREATED:20230922T200345Z
LAST-MODIFIED:20230922T200345Z
UID:28418-1712131200-1712160000@desmetschool.org
SUMMARY:End of 3rd Quarter
DESCRIPTION:
URL:https://desmetschool.org/event/end-of-3rd-quarter/
END:VEVENT
BEGIN:VEVENT
DTSTART;TZID=America/Denver:20240401T080000
DTEND;TZID=America/Denver:20240401T160000
DTSTAMP:20260425T081215
CREATED:20230922T200304Z
LAST-MODIFIED:20230922T200304Z
UID:28416-1711958400-1711987200@desmetschool.org
SUMMARY:No School
DESCRIPTION:
URL:https://desmetschool.org/event/no-school-5/
END:VEVENT
BEGIN:VEVENT
DTSTART;TZID=America/Denver:20240318T080000
DTEND;TZID=America/Denver:20240322T160000
DTSTAMP:20260425T081215
CREATED:20230922T183654Z
LAST-MODIFIED:20230922T183654Z
UID:28403-1710748800-1711123200@desmetschool.org
SUMMARY:No School ~ Spring Break
DESCRIPTION:
URL:https://desmetschool.org/event/no-school-spring-break/
END:VEVENT
BEGIN:VEVENT
DTSTART;TZID=America/Denver:20240305T180000
DTEND;TZID=America/Denver:20240305T193000
DTSTAMP:20260425T081215
CREATED:20240109T175325Z
LAST-MODIFIED:20240109T180113Z
UID:29325-1709661600-1709667000@desmetschool.org
SUMMARY:DeSmet strategic meeting
DESCRIPTION:DeSmet will be holding a strategic meeting to discuss the future goals of DeSmet school in the school library. This are open meeting for the community. Please RSVP if you will be attending at 406-549-4994.
URL:https://desmetschool.org/event/desmet-board-of-trustees-strategic-meeting-3/
END:VEVENT
BEGIN:VEVENT
DTSTART;TZID=America/Denver:20240219T080000
DTEND;TZID=America/Denver:20240219T160000
DTSTAMP:20260425T081215
CREATED:20230922T174901Z
LAST-MODIFIED:20230922T174901Z
UID:28401-1708329600-1708358400@desmetschool.org
SUMMARY:No School
DESCRIPTION:
URL:https://desmetschool.org/event/no-school-4/
END:VEVENT
BEGIN:VEVENT
DTSTART;TZID=America/Denver:20240215T123000
DTEND;TZID=America/Denver:20240215T123000
DTSTAMP:20260425T081215
CREATED:20230922T174449Z
LAST-MODIFIED:20230922T174449Z
UID:28399-1708000200-1708000200@desmetschool.org
SUMMARY:School Releases at 12:30 today
DESCRIPTION:Buses will leave the school at 12:35 and Boys & Girls club will be open till 6:00 pm.
URL:https://desmetschool.org/event/school-releases-at-1230-today/
END:VEVENT
BEGIN:VEVENT
DTSTART;TZID=America/Denver:20240213T180000
DTEND;TZID=America/Denver:20240213T193000
DTSTAMP:20260425T081215
CREATED:20240109T174936Z
LAST-MODIFIED:20240109T180200Z
UID:29323-1707847200-1707852600@desmetschool.org
SUMMARY:DeSmet strategic meeting
DESCRIPTION:DeSmet will be holding a strategic meeting to discuss the future goals of DeSmet school in the school library. This are open meeting for the community. Please RSVP if you will be attending at 406-549-4994.
URL:https://desmetschool.org/event/desmet-board-of-trustees-strategic-meeting-2/
END:VEVENT
BEGIN:VEVENT
DTSTART;TZID=America/Denver:20240209T080000
DTEND;TZID=America/Denver:20240209T160000
DTSTAMP:20260425T081215
CREATED:20230922T174256Z
LAST-MODIFIED:20230922T174256Z
UID:28397-1707465600-1707494400@desmetschool.org
SUMMARY:No School
DESCRIPTION:
URL:https://desmetschool.org/event/no-school-3/
END:VEVENT
BEGIN:VEVENT
DTSTART;TZID=America/Denver:20240208T124500
DTEND;TZID=America/Denver:20240208T190000
DTSTAMP:20260425T081215
CREATED:20231031T142448Z
LAST-MODIFIED:20231031T142448Z
UID:28737-1707396300-1707418800@desmetschool.org
SUMMARY:Parent/Teacher Conferences 12:45-7:00
DESCRIPTION:
URL:https://desmetschool.org/event/parent-teacher-conferences-1245-700/
END:VEVENT
BEGIN:VEVENT
DTSTART;TZID=America/Denver:20240208T123000
DTEND;TZID=America/Denver:20240208T123000
DTSTAMP:20260425T081215
CREATED:20230922T173938Z
LAST-MODIFIED:20230922T173938Z
UID:28395-1707395400-1707395400@desmetschool.org
SUMMARY:School Gets Out at 12:30 today for conferences
DESCRIPTION:Buses will be leaving the school at 12:30 pm and Boys & Girls will be open until 6:00 pm.
URL:https://desmetschool.org/event/school-gets-out-at-1230-today-for-conferences-2/
END:VEVENT
BEGIN:VEVENT
DTSTART;TZID=America/Denver:20240125T080000
DTEND;TZID=America/Denver:20240125T160000
DTSTAMP:20260425T081215
CREATED:20230922T173303Z
LAST-MODIFIED:20230922T173303Z
UID:28386-1706169600-1706198400@desmetschool.org
SUMMARY:Early Release 12:30
DESCRIPTION:Buses will leave the school at 12:35 and Boys & Girls club will run until 6:00 pm.
URL:https://desmetschool.org/event/early-release-1230/
END:VEVENT
BEGIN:VEVENT
DTSTART;TZID=America/Denver:20240124T180000
DTEND;TZID=America/Denver:20240124T200000
DTSTAMP:20260425T081215
CREATED:20240116T162540Z
LAST-MODIFIED:20240116T162540Z
UID:29389-1706119200-1706126400@desmetschool.org
SUMMARY:Big Sky Highschool Event for Class of 2028
DESCRIPTION:doc00655320240116091536
URL:https://desmetschool.org/event/big-sky-highschool-event-for-class-of-2028/
END:VEVENT
BEGIN:VEVENT
DTSTART;TZID=America/Denver:20240123T180000
DTEND;TZID=America/Denver:20240123T193000
DTSTAMP:20260425T081215
CREATED:20240109T174830Z
LAST-MODIFIED:20240109T180240Z
UID:29321-1706032800-1706038200@desmetschool.org
SUMMARY:DeSmet strategic meeting
DESCRIPTION:DeSmet will be holding a strategic meeting to discuss the future goals of DeSmet school in the school library. This are open meeting for the community. Please RSVP if you will be attending at 406-549-4994.
URL:https://desmetschool.org/event/desmet-board-of-trustees-strategic-meeting/
END:VEVENT
BEGIN:VEVENT
DTSTART;TZID=America/Denver:20240123T080000
DTEND;TZID=America/Denver:20240123T160000
DTSTAMP:20260425T081215
CREATED:20230922T173112Z
LAST-MODIFIED:20230922T173112Z
UID:28384-1705996800-1706025600@desmetschool.org
SUMMARY:End of 2nd Quarter
DESCRIPTION:
URL:https://desmetschool.org/event/end-of-2nd-quarter/
END:VEVENT
BEGIN:VEVENT
DTSTART;TZID=America/Denver:20240122T090000
DTEND;TZID=America/Denver:20240122T110000
DTSTAMP:20260425T081215
CREATED:20240109T174120Z
LAST-MODIFIED:20240109T174120Z
UID:29315-1705914000-1705921200@desmetschool.org
SUMMARY:Child Find Event for Children 0-5
DESCRIPTION:Child Find Event in Our District for Children 0-5 Years:\nA free Developmental and Preschool Screening Clinic for children ages 0 to 5 for DeSmet School District\nwill be held on January 22\, 2024\, 9:00 a.m. – 11:00 a.m. at DeSmet School.\nThis free screening will include gross motor\, fine motor\, language concepts\, communication concepts\,\ncommunication skills\, hearing and vision screening.\nPlease call to schedule an appointment for your child’s screening or to receive more information.\n(406) 549-4994\nWhat Is Child Find?\nChild find is a component of the Individuals with Disabilities Education Act of 2004 (IDEA ’04) that\nrequires states to locate\, identify\, and evaluate all children with disabilities\, ages birth through 21 years\,\nwho need early intervention or special education services.\nDevelopmental and Educational Services for Children Ages Birth\nthrough 21 Years\nSome children have more difficulty learning than others. They may have trouble achieving milestones in\none or more of the following developmental or academic areas:\n• Vision and Hearing\n• Motor Control or Coordination\n• Behavior or Social Skills\n• Speech or Communication Skills\n• Cognitive or Academic Skills
URL:https://desmetschool.org/event/child-find-event-for-children-0-5/
END:VEVENT
BEGIN:VEVENT
DTSTART;TZID=America/Denver:20240115T080000
DTEND;TZID=America/Denver:20240115T160000
DTSTAMP:20260425T081215
CREATED:20230922T173028Z
LAST-MODIFIED:20230922T173028Z
UID:28382-1705305600-1705334400@desmetschool.org
SUMMARY:No School
DESCRIPTION:
URL:https://desmetschool.org/event/no-school-2/
END:VEVENT
BEGIN:VEVENT
DTSTART;TZID=America/Denver:20231222T080000
DTEND;TZID=America/Denver:20240102T160000
DTSTAMP:20260425T081215
CREATED:20230921T194542Z
LAST-MODIFIED:20230921T194542Z
UID:28372-1703232000-1704211200@desmetschool.org
SUMMARY:Winter Break ~ No School
DESCRIPTION:
URL:https://desmetschool.org/event/winter-break-no-school/
END:VEVENT
BEGIN:VEVENT
DTSTART;TZID=America/Denver:20231214T130000
DTEND;TZID=America/Denver:20231214T143000
DTSTAMP:20260425T081215
CREATED:20231103T142431Z
LAST-MODIFIED:20231106T151126Z
UID:28766-1702558800-1702564200@desmetschool.org
SUMMARY:K1 - 8th Grade Winter Program
DESCRIPTION:There will be no buses in the afternoon. You will need to pick up your student after the program. The Boys and Girls will still be open for those students who are in the program.
URL:https://desmetschool.org/event/k1-8th-grade-winter-program/
END:VEVENT
END:VCALENDAR