BEGIN:VCALENDAR
VERSION:2.0
PRODID:-//DeSmet Public School - ECPv6.15.20//NONSGML v1.0//EN
CALSCALE:GREGORIAN
METHOD:PUBLISH
X-WR-CALNAME:DeSmet Public School
X-ORIGINAL-URL:https://desmetschool.org
X-WR-CALDESC:Events for DeSmet Public School
REFRESH-INTERVAL;VALUE=DURATION:PT1H
X-Robots-Tag:noindex
X-PUBLISHED-TTL:PT1H
BEGIN:VTIMEZONE
TZID:America/Denver
BEGIN:DAYLIGHT
TZOFFSETFROM:-0700
TZOFFSETTO:-0600
TZNAME:MDT
DTSTART:20200308T090000
END:DAYLIGHT
BEGIN:STANDARD
TZOFFSETFROM:-0600
TZOFFSETTO:-0700
TZNAME:MST
DTSTART:20201101T080000
END:STANDARD
BEGIN:DAYLIGHT
TZOFFSETFROM:-0700
TZOFFSETTO:-0600
TZNAME:MDT
DTSTART:20210314T090000
END:DAYLIGHT
BEGIN:STANDARD
TZOFFSETFROM:-0600
TZOFFSETTO:-0700
TZNAME:MST
DTSTART:20211107T080000
END:STANDARD
BEGIN:DAYLIGHT
TZOFFSETFROM:-0700
TZOFFSETTO:-0600
TZNAME:MDT
DTSTART:20220313T090000
END:DAYLIGHT
BEGIN:STANDARD
TZOFFSETFROM:-0600
TZOFFSETTO:-0700
TZNAME:MST
DTSTART:20221106T080000
END:STANDARD
END:VTIMEZONE
BEGIN:VEVENT
DTSTART;TZID=America/Denver:20211220T180000
DTEND;TZID=America/Denver:20211220T180000
DTSTAMP:20260425T210408
CREATED:20211116T154746Z
LAST-MODIFIED:20211116T154746Z
UID:24967-1640023200-1640023200@desmetschool.org
SUMMARY:***Rescheduled*** Board of Trustees Regular Board Meeting
DESCRIPTION:****Rescheduled**** \nThe Board of Trustees Regular Board Meeting scheduled for Monday\, December 20th at 6:00 pm has been rescheduled to Monday\, December  13th at 6:00 pm in the school library.
URL:https://desmetschool.org/event/rescheduled-board-of-trustees-regular-board-meeting/
LOCATION:Library
END:VEVENT
BEGIN:VEVENT
DTSTART;TZID=America/Denver:20211213T180000
DTEND;TZID=America/Denver:20211213T200000
DTSTAMP:20260425T210408
CREATED:20211209T203546Z
LAST-MODIFIED:20211209T203546Z
UID:24965-1639418400-1639425600@desmetschool.org
SUMMARY:DeSmet Board of Trustees Regular Meeting
DESCRIPTION:The DeSmet Board of Trustees Regular Meeting is scheduled for Monday\, December 13th at 6:00 pm in the school library. \nPlease click on the this link to see the agenda and board packet  https://docs.google.com/document/d/1eEdD4XQhNRPT17xsYnDhMypiL09e1axCwj9m5xWUiGc/edit#heading=h.kdakoxblo2wm
URL:https://desmetschool.org/event/desmet-board-of-trustees-regular-meeting-14/
LOCATION:Library
END:VEVENT
BEGIN:VEVENT
DTSTART;VALUE=DATE:20211213
DTEND;VALUE=DATE:20211214
DTSTAMP:20260425T210408
CREATED:20220928T225052Z
LAST-MODIFIED:20220928T225052Z
UID:26245-1639353600-1639439999@desmetschool.org
SUMMARY:DeSmet Board of Trustees Regular Board Meeting 12/13/2021
DESCRIPTION:12.13.21 Minutes
URL:https://desmetschool.org/event/desmet-board-of-trustees-regular-board-meeting-12-13-2021/
END:VEVENT
BEGIN:VEVENT
DTSTART;TZID=America/Denver:20211115T180000
DTEND;TZID=America/Denver:20211115T200000
DTSTAMP:20260425T210408
CREATED:20211111T205746Z
LAST-MODIFIED:20211214T215248Z
UID:24923-1636999200-1637006400@desmetschool.org
SUMMARY:DeSmet Board of Trustees Regular Meeting
DESCRIPTION:11.15.21 Signed Board Minutes
URL:https://desmetschool.org/event/desmet-board-of-trustees-regular-meeting-13/
LOCATION:Library
END:VEVENT
BEGIN:VEVENT
DTSTART;TZID=America/Denver:20211018T180000
DTEND;TZID=America/Denver:20211018T200000
DTSTAMP:20260425T210408
CREATED:20210916T202319Z
LAST-MODIFIED:20211116T155044Z
UID:24482-1634580000-1634587200@desmetschool.org
SUMMARY:DeSmet Board of Trustees Regular Meeting
DESCRIPTION:Signed Regular Board Mtg Minutes 10.18.21
URL:https://desmetschool.org/event/desmet-board-of-trustees-regular-meeting-12/
LOCATION:Library
END:VEVENT
BEGIN:VEVENT
DTSTART;TZID=America/Denver:20211004T180000
DTEND;TZID=America/Denver:20211004T193000
DTSTAMP:20260425T210408
CREATED:20210929T173221Z
LAST-MODIFIED:20211116T154916Z
UID:24574-1633370400-1633375800@desmetschool.org
SUMMARY:DeSmet Board of Trustees Special Meeting
DESCRIPTION:Signed Special Board Meeting Minutes 10.4.21
URL:https://desmetschool.org/event/desmet-board-of-trustees-special-meeting-12/
LOCATION:Library
END:VEVENT
BEGIN:VEVENT
DTSTART;TZID=America/Denver:20210830T180000
DTEND;TZID=America/Denver:20210830T200000
DTSTAMP:20260425T210408
CREATED:20210622T223002Z
LAST-MODIFIED:20210921T155617Z
UID:24247-1630346400-1630353600@desmetschool.org
SUMMARY:DeSmet Board of Trustees Regular Meeting
DESCRIPTION:8-30-21 Signed Board Minutes
URL:https://desmetschool.org/event/desmet-board-of-trustees-regular-meeting-10/
LOCATION:Library
END:VEVENT
END:VCALENDAR