BEGIN:VCALENDAR
VERSION:2.0
PRODID:-//DeSmet Public School - ECPv6.15.20//NONSGML v1.0//EN
CALSCALE:GREGORIAN
METHOD:PUBLISH
X-WR-CALNAME:DeSmet Public School
X-ORIGINAL-URL:https://desmetschool.org
X-WR-CALDESC:Events for DeSmet Public School
REFRESH-INTERVAL;VALUE=DURATION:PT1H
X-Robots-Tag:noindex
X-PUBLISHED-TTL:PT1H
BEGIN:VTIMEZONE
TZID:America/Denver
BEGIN:DAYLIGHT
TZOFFSETFROM:-0700
TZOFFSETTO:-0600
TZNAME:MDT
DTSTART:20200308T090000
END:DAYLIGHT
BEGIN:STANDARD
TZOFFSETFROM:-0600
TZOFFSETTO:-0700
TZNAME:MST
DTSTART:20201101T080000
END:STANDARD
BEGIN:DAYLIGHT
TZOFFSETFROM:-0700
TZOFFSETTO:-0600
TZNAME:MDT
DTSTART:20210314T090000
END:DAYLIGHT
BEGIN:STANDARD
TZOFFSETFROM:-0600
TZOFFSETTO:-0700
TZNAME:MST
DTSTART:20211107T080000
END:STANDARD
BEGIN:DAYLIGHT
TZOFFSETFROM:-0700
TZOFFSETTO:-0600
TZNAME:MDT
DTSTART:20220313T090000
END:DAYLIGHT
BEGIN:STANDARD
TZOFFSETFROM:-0600
TZOFFSETTO:-0700
TZNAME:MST
DTSTART:20221106T080000
END:STANDARD
BEGIN:DAYLIGHT
TZOFFSETFROM:-0700
TZOFFSETTO:-0600
TZNAME:MDT
DTSTART:20230312T090000
END:DAYLIGHT
BEGIN:STANDARD
TZOFFSETFROM:-0600
TZOFFSETTO:-0700
TZNAME:MST
DTSTART:20231105T080000
END:STANDARD
BEGIN:DAYLIGHT
TZOFFSETFROM:-0700
TZOFFSETTO:-0600
TZNAME:MDT
DTSTART:20240310T090000
END:DAYLIGHT
BEGIN:STANDARD
TZOFFSETFROM:-0600
TZOFFSETTO:-0700
TZNAME:MST
DTSTART:20241103T080000
END:STANDARD
END:VTIMEZONE
BEGIN:VEVENT
DTSTART;TZID=America/Denver:20230914T090000
DTEND;TZID=America/Denver:20230914T100000
DTSTAMP:20260425T062802
CREATED:20200622T180113Z
LAST-MODIFIED:20230810T151343Z
UID:22024-1694682000-1694685600@desmetschool.org
SUMMARY:Picture Day
DESCRIPTION:
URL:https://desmetschool.org/event/picture-day-2/
END:VEVENT
BEGIN:VEVENT
DTSTART;VALUE=DATE:20230911
DTEND;VALUE=DATE:20230912
DTSTAMP:20260425T062802
CREATED:20170616T184527Z
LAST-MODIFIED:20230810T154343Z
UID:1750-1694390400-1694476799@desmetschool.org
SUMMARY:No School
DESCRIPTION:
URL:https://desmetschool.org/event/no-school-teacher-pir-day/
END:VEVENT
BEGIN:VEVENT
DTSTART;TZID=America/Denver:20230907T173000
DTEND;TZID=America/Denver:20230907T183000
DTSTAMP:20260425T062802
CREATED:20230810T163626Z
LAST-MODIFIED:20230810T163626Z
UID:27921-1694107800-1694111400@desmetschool.org
SUMMARY:Open House
DESCRIPTION:Doors will open at 5:30 pm. Please come and see your student’s classroom and tour the school.
URL:https://desmetschool.org/event/open-house/
END:VEVENT
BEGIN:VEVENT
DTSTART;VALUE=DATE:20230904
DTEND;VALUE=DATE:20230905
DTSTAMP:20260425T062802
CREATED:20170616T184716Z
LAST-MODIFIED:20230810T150744Z
UID:1752-1693785600-1693871999@desmetschool.org
SUMMARY:No School - Labor Day
DESCRIPTION:
URL:https://desmetschool.org/event/no-school-labor-day/
END:VEVENT
BEGIN:VEVENT
DTSTART;TZID=America/Denver:20230901T081700
DTEND;TZID=America/Denver:20230901T120000
DTSTAMP:20260425T062802
CREATED:20230809T173327Z
LAST-MODIFIED:20230810T162904Z
UID:27875-1693556220-1693569600@desmetschool.org
SUMMARY:K1 and Kinders will need to be picked up from school at noon by a parent or gaurdian.
DESCRIPTION:
URL:https://desmetschool.org/event/k1-and-kinders-will-need-to-be-picked-up-from-school-at-noon-by-a-parent-or-gaurdian-2/
END:VEVENT
BEGIN:VEVENT
DTSTART;TZID=America/Denver:20230831T081700
DTEND;TZID=America/Denver:20230831T120000
DTSTAMP:20260425T062802
CREATED:20230809T173248Z
LAST-MODIFIED:20230810T162929Z
UID:27873-1693469820-1693483200@desmetschool.org
SUMMARY:K1 and Kinders will need to be picked up from school at noon by a parent or gaurdian.
DESCRIPTION:
URL:https://desmetschool.org/event/k1-and-kinders-will-need-to-be-picked-up-from-school-at-noon-by-a-parent-or-gaurdian/
END:VEVENT
BEGIN:VEVENT
DTSTART;TZID=America/Denver:20230830T081700
DTEND;TZID=America/Denver:20230830T153000
DTSTAMP:20260425T062802
CREATED:20230809T172830Z
LAST-MODIFIED:20230810T162554Z
UID:27868-1693383420-1693409400@desmetschool.org
SUMMARY:First Day of School 1-8 Grade
DESCRIPTION:Breakfast will be served starting at 8:00 am. School starts at 8:17 am & ends at 3:30 pm. Buses will be running in the morning and afternoon.
URL:https://desmetschool.org/event/first-day-of-school-1-8-grade/
END:VEVENT
BEGIN:VEVENT
DTSTART;TZID=America/Denver:20230830T081700
DTEND;TZID=America/Denver:20230830T120000
DTSTAMP:20260425T062802
CREATED:20210811T204845Z
LAST-MODIFIED:20230810T163123Z
UID:24359-1693383420-1693396800@desmetschool.org
SUMMARY:1st Day of School K1 & Kindergarten
DESCRIPTION:K1 and Kindergarten will hours will be 8:17-12:00. Breakfast will be served starting at 8:00 am. Parents will have to pick up student(s) up at 12:00pm. There will be no afternoon bus for the K1 or Kinder.
URL:https://desmetschool.org/event/pre-k-and-kindergarten-2/
END:VEVENT
BEGIN:VEVENT
DTSTART;VALUE=DATE:20230327
DTEND;VALUE=DATE:20230328
DTSTAMP:20260425T062802
CREATED:20230327T060627Z
LAST-MODIFIED:20230601T060949Z
UID:27762-1679875200-1679961599@desmetschool.org
SUMMARY:DeSmet Board of Trustees Regular Board Meeting 3/27/2023
DESCRIPTION:3.27.23 Board Minutes
URL:https://desmetschool.org/event/desmet-board-of-trustees-regular-board-meeting-3-27-2023/
END:VEVENT
BEGIN:VEVENT
DTSTART;VALUE=DATE:20221130
DTEND;VALUE=DATE:20221201
DTSTAMP:20260425T062802
CREATED:20221130T071817Z
LAST-MODIFIED:20230601T062005Z
UID:27777-1669766400-1669852799@desmetschool.org
SUMMARY:DeSmet Board of Trustees Regular Board Meeting 11/30/2022
DESCRIPTION:11.30.22 Board Minutes
URL:https://desmetschool.org/event/desmet-board-of-trustees-regular-board-meeting-11-30-2022/
END:VEVENT
BEGIN:VEVENT
DTSTART;VALUE=DATE:20221128
DTEND;VALUE=DATE:20221129
DTSTAMP:20260425T062802
CREATED:20221128T072010Z
LAST-MODIFIED:20230601T062123Z
UID:27779-1669593600-1669679999@desmetschool.org
SUMMARY:DeSmet Board of Trustees Regular Board Meeting 11/28/2022
DESCRIPTION:11.28.22 Board Minutes
URL:https://desmetschool.org/event/desmet-board-of-trustees-regular-board-meeting-11-28-2022/
END:VEVENT
BEGIN:VEVENT
DTSTART;VALUE=DATE:20221017
DTEND;VALUE=DATE:20221018
DTSTAMP:20260425T062802
CREATED:20221017T062637Z
LAST-MODIFIED:20230601T062756Z
UID:27783-1665964800-1666051199@desmetschool.org
SUMMARY:DeSmet Board of Trustees Regular Board Meeting 10/17/2022
DESCRIPTION:10.17.22 Board Minutes
URL:https://desmetschool.org/event/desmet-board-of-trustees-regular-board-meeting-10-17-2022/
END:VEVENT
BEGIN:VEVENT
DTSTART;VALUE=DATE:20220926
DTEND;VALUE=DATE:20220927
DTSTAMP:20260425T062802
CREATED:20220926T062808Z
LAST-MODIFIED:20230601T062903Z
UID:27785-1664150400-1664236799@desmetschool.org
SUMMARY:DeSmet Board of Trustees Regular Board Meeting 9/26/2022
DESCRIPTION:9.26.22 Board Minutes
URL:https://desmetschool.org/event/desmet-board-of-trustees-regular-board-meeting-9-26-2022/
END:VEVENT
BEGIN:VEVENT
DTSTART;VALUE=DATE:20220824
DTEND;VALUE=DATE:20220825
DTSTAMP:20260425T062802
CREATED:20220928T225808Z
LAST-MODIFIED:20220928T225808Z
UID:26257-1661299200-1661385599@desmetschool.org
SUMMARY:DeSmet Board of Trustees Regular Board Meeting 8/24/2022
DESCRIPTION:8.24.22 Minutes.docx (1)
URL:https://desmetschool.org/event/desmet-board-of-trustees-regular-board-meeting-8-24-2022/
END:VEVENT
BEGIN:VEVENT
DTSTART;VALUE=DATE:20220815
DTEND;VALUE=DATE:20220816
DTSTAMP:20260425T062802
CREATED:20220928T225715Z
LAST-MODIFIED:20220928T225715Z
UID:26254-1660521600-1660607999@desmetschool.org
SUMMARY:DeSmet Board of Trustees Regular Board Meeting 8/15/2022
DESCRIPTION:8.15.22 Minutes.docx (1)
URL:https://desmetschool.org/event/desmet-board-of-trustees-regular-board-meeting-8-15-2022/
END:VEVENT
BEGIN:VEVENT
DTSTART;VALUE=DATE:20220815
DTEND;VALUE=DATE:20220816
DTSTAMP:20260425T062802
CREATED:20220815T063246Z
LAST-MODIFIED:20230601T063729Z
UID:27791-1660521600-1660607999@desmetschool.org
SUMMARY:DeSmet Board of Trustees Regular Board Meeting 8/15/2022
DESCRIPTION:8.15.22 Board Minutes
URL:https://desmetschool.org/event/desmet-board-of-trustees-regular-board-meeting-8-15-2022-2/
END:VEVENT
BEGIN:VEVENT
DTSTART;VALUE=DATE:20220627
DTEND;VALUE=DATE:20220628
DTSTAMP:20260425T062802
CREATED:20220627T063131Z
LAST-MODIFIED:20230601T063241Z
UID:27789-1656288000-1656374399@desmetschool.org
SUMMARY:DeSmet Board of Trustees Regular Board Meeting 6/27/2022
DESCRIPTION:6.27.22 Board Minutes
URL:https://desmetschool.org/event/desmet-board-of-trustees-regular-board-meeting-6-27-2022-2/
END:VEVENT
BEGIN:VEVENT
DTSTART;VALUE=DATE:20220516
DTEND;VALUE=DATE:20220517
DTSTAMP:20260425T062802
CREATED:20220512T225201Z
LAST-MODIFIED:20220928T225249Z
UID:25826-1652659200-1652745599@desmetschool.org
SUMMARY:DeSmet Board of Trustees Regular Board Meeting 5/16/2022
DESCRIPTION:The DeSmet Board of Trustees will hold a regularly scheduled board meeting in the school library Monday\, May 16th at 6:00pm. The board agenda/packet can be found here: \nhttps://drive.google.com/file/d/1jtu8hd_PFpZl5OlTkiNWLMSwwY-GFSr9/view?usp=sharing
URL:https://desmetschool.org/event/desmet-board-of-trustees-regular-board-meeting-5-16-2022/
END:VEVENT
BEGIN:VEVENT
DTSTART;VALUE=DATE:20220330
DTEND;VALUE=DATE:20220331
DTSTAMP:20260425T062803
CREATED:20220928T224959Z
LAST-MODIFIED:20220928T224959Z
UID:26242-1648598400-1648684799@desmetschool.org
SUMMARY:DeSmet Board of Trustees Regular Board Meeting 3/30/2022
DESCRIPTION:3.30.22 Minutes
URL:https://desmetschool.org/event/desmet-board-of-trustees-regular-board-meeting-3-30-2022/
END:VEVENT
BEGIN:VEVENT
DTSTART;TZID=America/Denver:20220329T080000
DTEND;TZID=America/Denver:20220329T170000
DTSTAMP:20260425T062803
CREATED:20220329T145627Z
LAST-MODIFIED:20220329T145627Z
UID:25658-1648540800-1648573200@desmetschool.org
SUMMARY:DeSmet Board of Trustees Special Board Meeting 3.30.22
DESCRIPTION:The DeSmet Board of Trustees will hold a special board meeting on Wednesday\, March 30th\, 2022\, at 5:00pm via Zoom. The Zoom access link\, agenda\, and board packet can be found HERE. \n 
URL:https://desmetschool.org/event/desmet-board-of-trustees-special-board-meeting-3-30-22/
END:VEVENT
BEGIN:VEVENT
DTSTART;VALUE=DATE:20220312
DTEND;VALUE=DATE:20220313
DTSTAMP:20260425T062803
CREATED:20220928T224740Z
LAST-MODIFIED:20220928T224740Z
UID:26236-1647043200-1647129599@desmetschool.org
SUMMARY:DeSmet Board of Trustees Regular Board Meeting 3/12/2022
DESCRIPTION:3.14.22 Minutes
URL:https://desmetschool.org/event/desmet-board-of-trustees-regular-board-meeting-3-12-2022/
END:VEVENT
BEGIN:VEVENT
DTSTART;TZID=America/Denver:20220222T180000
DTEND;TZID=America/Denver:20220222T200000
DTSTAMP:20260425T062803
CREATED:20211216T191406Z
LAST-MODIFIED:20220218T195944Z
UID:25181-1645552800-1645560000@desmetschool.org
SUMMARY:DeSmet Board of Trustees Regular Meeting
DESCRIPTION:The DeSmet Board of Trustees Regular Meeting is on Tuesday\, February 22nd at 6:00 pm in the school library. \nThe agenda and board packet can be found here.
URL:https://desmetschool.org/event/desmet-board-of-trustees-regular-meeting-16/
LOCATION:Library
END:VEVENT
BEGIN:VEVENT
DTSTART;TZID=America/Denver:20220131T180000
DTEND;TZID=America/Denver:20220131T180000
DTSTAMP:20260425T062803
CREATED:20220127T212514Z
LAST-MODIFIED:20220127T212514Z
UID:25395-1643652000-1643652000@desmetschool.org
SUMMARY:DeSmet Board of Trustees Special Meeting
DESCRIPTION:There will be a DeSmet Board of Trustees Special Board Meeting on Monday\, January 31st\, at 6:00pm via Zoom. The board agenda and packet are attached for your review\, and can be found here.
URL:https://desmetschool.org/event/desmet-board-of-trustees-special-meeting-13/
LOCATION:Zoom
END:VEVENT
BEGIN:VEVENT
DTSTART;VALUE=DATE:20220131
DTEND;VALUE=DATE:20220201
DTSTAMP:20260425T062803
CREATED:20220928T225201Z
LAST-MODIFIED:20220928T225201Z
UID:26248-1643587200-1643673599@desmetschool.org
SUMMARY:DeSmet Board of Trustees Special Board Meeting
DESCRIPTION:1.31.22 Special Board Meeting Minutes
URL:https://desmetschool.org/event/desmet-board-of-trustees-special-board-meeting/
END:VEVENT
BEGIN:VEVENT
DTSTART;TZID=America/Denver:20220118T180000
DTEND;TZID=America/Denver:20220118T200000
DTSTAMP:20260425T062803
CREATED:20211216T185807Z
LAST-MODIFIED:20220114T162230Z
UID:25175-1642528800-1642536000@desmetschool.org
SUMMARY:DeSmet Board of Trustees Regular Meeting
DESCRIPTION:There will be a DeSmet Board of Trustees Regular Meeting on Tuesday\, January 18th at 6 pm in the school library \nThe agenda and board packet can be found: Here
URL:https://desmetschool.org/event/desmet-board-of-trustees-regular-meeting-15/
LOCATION:Library
END:VEVENT
BEGIN:VEVENT
DTSTART;VALUE=DATE:20220118
DTEND;VALUE=DATE:20220119
DTSTAMP:20260425T062803
CREATED:20220928T224154Z
LAST-MODIFIED:20220928T224154Z
UID:26230-1642464000-1642550399@desmetschool.org
SUMMARY:DeSmet Board of Trustees Regular Board Meeting 1/18/2022
DESCRIPTION:1.18.22 Minutes
URL:https://desmetschool.org/event/desmet-board-of-trustees-regular-board-meeting-1-18-2022/
END:VEVENT
BEGIN:VEVENT
DTSTART;TZID=America/Denver:20220117T180000
DTEND;TZID=America/Denver:20220117T180000
DTSTAMP:20260425T062803
CREATED:20211216T190212Z
LAST-MODIFIED:20211216T190212Z
UID:25177-1642442400-1642442400@desmetschool.org
SUMMARY:***Rescheduled***DeSmet Board of Trustees Regular Meeting
DESCRIPTION:***RESCHEDULED*** \nThe DeSmet Board of Trustees Meeting has been rescheduled to Tuesday\, January 18th at 6pm in the school library.
URL:https://desmetschool.org/event/rescheduleddesmet-board-of-trustees-regular-meeting/
LOCATION:Library
END:VEVENT
BEGIN:VEVENT
DTSTART;TZID=America/Denver:20220103T180000
DTEND;TZID=America/Denver:20220103T200000
DTSTAMP:20260425T062803
CREATED:20211230T201938Z
LAST-MODIFIED:20211230T201938Z
UID:25206-1641232800-1641240000@desmetschool.org
SUMMARY:Board of Trustees Special Meeting
DESCRIPTION:board1
URL:https://desmetschool.org/event/board-of-trustees-special-meeting-7/
END:VEVENT
BEGIN:VEVENT
DTSTART;VALUE=DATE:20220103
DTEND;VALUE=DATE:20220104
DTSTAMP:20260425T062803
CREATED:20220928T224626Z
LAST-MODIFIED:20220928T224626Z
UID:26233-1641168000-1641254399@desmetschool.org
SUMMARY:DeSmet Board of Trustees Regular Board Meeting 1/3/2022
DESCRIPTION:1.3.22 Minutes
URL:https://desmetschool.org/event/desmet-board-of-trustees-regular-board-meeting-1-3-2022/
END:VEVENT
BEGIN:VEVENT
DTSTART;TZID=America/Denver:20211220T180000
DTEND;TZID=America/Denver:20211220T180000
DTSTAMP:20260425T062803
CREATED:20211116T154746Z
LAST-MODIFIED:20211116T154746Z
UID:24967-1640023200-1640023200@desmetschool.org
SUMMARY:***Rescheduled*** Board of Trustees Regular Board Meeting
DESCRIPTION:****Rescheduled**** \nThe Board of Trustees Regular Board Meeting scheduled for Monday\, December 20th at 6:00 pm has been rescheduled to Monday\, December  13th at 6:00 pm in the school library.
URL:https://desmetschool.org/event/rescheduled-board-of-trustees-regular-board-meeting/
LOCATION:Library
END:VEVENT
END:VCALENDAR