BEGIN:VCALENDAR
VERSION:2.0
PRODID:-//DeSmet Public School - ECPv6.15.20//NONSGML v1.0//EN
CALSCALE:GREGORIAN
METHOD:PUBLISH
X-WR-CALNAME:DeSmet Public School
X-ORIGINAL-URL:https://desmetschool.org
X-WR-CALDESC:Events for DeSmet Public School
REFRESH-INTERVAL;VALUE=DURATION:PT1H
X-Robots-Tag:noindex
X-PUBLISHED-TTL:PT1H
BEGIN:VTIMEZONE
TZID:America/Denver
BEGIN:DAYLIGHT
TZOFFSETFROM:-0700
TZOFFSETTO:-0600
TZNAME:MDT
DTSTART:20240310T090000
END:DAYLIGHT
BEGIN:STANDARD
TZOFFSETFROM:-0600
TZOFFSETTO:-0700
TZNAME:MST
DTSTART:20241103T080000
END:STANDARD
BEGIN:DAYLIGHT
TZOFFSETFROM:-0700
TZOFFSETTO:-0600
TZNAME:MDT
DTSTART:20250309T090000
END:DAYLIGHT
BEGIN:STANDARD
TZOFFSETFROM:-0600
TZOFFSETTO:-0700
TZNAME:MST
DTSTART:20251102T080000
END:STANDARD
BEGIN:DAYLIGHT
TZOFFSETFROM:-0700
TZOFFSETTO:-0600
TZNAME:MDT
DTSTART:20260308T090000
END:DAYLIGHT
BEGIN:STANDARD
TZOFFSETFROM:-0600
TZOFFSETTO:-0700
TZNAME:MST
DTSTART:20261101T080000
END:STANDARD
BEGIN:DAYLIGHT
TZOFFSETFROM:-0700
TZOFFSETTO:-0600
TZNAME:MDT
DTSTART:20270314T090000
END:DAYLIGHT
BEGIN:STANDARD
TZOFFSETFROM:-0600
TZOFFSETTO:-0700
TZNAME:MST
DTSTART:20271107T080000
END:STANDARD
END:VTIMEZONE
BEGIN:VEVENT
DTSTART;TZID=America/Denver:20250317T080000
DTEND;TZID=America/Denver:20250321T160000
DTSTAMP:20260425T093238
CREATED:20241031T152526Z
LAST-MODIFIED:20241031T152540Z
UID:30689-1742198400-1742572800@desmetschool.org
SUMMARY:Spring Break ~ No School
DESCRIPTION:
URL:https://desmetschool.org/event/spring-break/
END:VEVENT
BEGIN:VEVENT
DTSTART;TZID=America/Denver:20250327T084500
DTEND;TZID=America/Denver:20250327T094500
DTSTAMP:20260425T093238
CREATED:20250220T174210Z
LAST-MODIFIED:20250220T174229Z
UID:31402-1743065100-1743068700@desmetschool.org
SUMMARY:Class & Spring Picture Day
DESCRIPTION:
URL:https://desmetschool.org/event/class-spring-pictures/
END:VEVENT
BEGIN:VEVENT
DTSTART;TZID=America/Denver:20250404T080000
DTEND;TZID=America/Denver:20250404T160000
DTSTAMP:20260425T093238
CREATED:20241031T152706Z
LAST-MODIFIED:20241031T152706Z
UID:30692-1743753600-1743782400@desmetschool.org
SUMMARY:End of 3rd Quarter
DESCRIPTION:
URL:https://desmetschool.org/event/end-of-3rd-quarter-2/
END:VEVENT
BEGIN:VEVENT
DTSTART;TZID=America/Denver:20250416T170000
DTEND;TZID=America/Denver:20250416T193000
DTSTAMP:20260425T093238
CREATED:20241031T152821Z
LAST-MODIFIED:20241031T152840Z
UID:30694-1744822800-1744831800@desmetschool.org
SUMMARY:ELA Night
DESCRIPTION:
URL:https://desmetschool.org/event/ela-night/
END:VEVENT
BEGIN:VEVENT
DTSTART;TZID=America/Denver:20250421T080000
DTEND;TZID=America/Denver:20250421T160000
DTSTAMP:20260425T093238
CREATED:20241031T152928Z
LAST-MODIFIED:20241031T152928Z
UID:30696-1745222400-1745251200@desmetschool.org
SUMMARY:No School
DESCRIPTION:
URL:https://desmetschool.org/event/no-school-14/
END:VEVENT
BEGIN:VEVENT
DTSTART;TZID=America/Denver:20250509T080000
DTEND;TZID=America/Denver:20250509T160000
DTSTAMP:20260425T093238
CREATED:20241031T153005Z
LAST-MODIFIED:20241031T153005Z
UID:30698-1746777600-1746806400@desmetschool.org
SUMMARY:No School
DESCRIPTION:
URL:https://desmetschool.org/event/no-school-15/
END:VEVENT
BEGIN:VEVENT
DTSTART;TZID=America/Denver:20250515T130000
DTEND;TZID=America/Denver:20250515T143000
DTSTAMP:20260425T093238
CREATED:20241031T153335Z
LAST-MODIFIED:20241031T153335Z
UID:30700-1747314000-1747319400@desmetschool.org
SUMMARY:Spring Concert
DESCRIPTION:
URL:https://desmetschool.org/event/spring-concert/
END:VEVENT
BEGIN:VEVENT
DTSTART;TZID=America/Denver:20250522T090000
DTEND;TZID=America/Denver:20250522T120000
DTSTAMP:20260425T093238
CREATED:20241031T153445Z
LAST-MODIFIED:20241031T153941Z
UID:30702-1747904400-1747915200@desmetschool.org
SUMMARY:Pre K & Kindergarten Round up
DESCRIPTION:
URL:https://desmetschool.org/event/pre-k-kindergarten-round-up/
END:VEVENT
BEGIN:VEVENT
DTSTART;TZID=America/Denver:20250526T080000
DTEND;TZID=America/Denver:20250526T160000
DTSTAMP:20260425T093238
CREATED:20241031T153536Z
LAST-MODIFIED:20241031T153536Z
UID:30704-1748246400-1748275200@desmetschool.org
SUMMARY:No School ~ Memorial Day
DESCRIPTION:
URL:https://desmetschool.org/event/no-school-memorial-day/
END:VEVENT
BEGIN:VEVENT
DTSTART;TZID=America/Denver:20250610T133000
DTEND;TZID=America/Denver:20250610T143000
DTSTAMP:20260425T093238
CREATED:20241031T153723Z
LAST-MODIFIED:20250516T152916Z
UID:30706-1749562200-1749565800@desmetschool.org
SUMMARY:Pre K & Kindergarten Promotion
DESCRIPTION:This is their last day of school.
URL:https://desmetschool.org/event/pre-k-kindergarten-promotion/
END:VEVENT
BEGIN:VEVENT
DTSTART;TZID=America/Denver:20250611T180000
DTEND;TZID=America/Denver:20250611T190000
DTSTAMP:20260425T093238
CREATED:20241031T154206Z
LAST-MODIFIED:20250528T190449Z
UID:30709-1749664800-1749668400@desmetschool.org
SUMMARY:8Th Grade Graduation
DESCRIPTION:This is the 8th Grade students last day of school.
URL:https://desmetschool.org/event/8th-grade-graduation-2/
END:VEVENT
BEGIN:VEVENT
DTSTART;TZID=America/Denver:20250612T081700
DTEND;TZID=America/Denver:20250612T113000
DTSTAMP:20260425T093238
CREATED:20241031T154346Z
LAST-MODIFIED:20241031T154346Z
UID:30712-1749716220-1749727800@desmetschool.org
SUMMARY:Last Day of School for 1-7 grades/ Early Realease at 11:30
DESCRIPTION:
URL:https://desmetschool.org/event/last-day-of-school-for-1-7-grades-early-realease-at-1130/
END:VEVENT
BEGIN:VEVENT
DTSTART;TZID=America/Denver:20250626T081700
DTEND;TZID=America/Denver:20250626T153000
DTSTAMP:20260425T093238
CREATED:20250626T174711Z
LAST-MODIFIED:20250626T174711Z
UID:32000-1750925820-1750951800@desmetschool.org
SUMMARY:EK & Kinder's Last Day of School
DESCRIPTION:
URL:https://desmetschool.org/event/ek-kinders-last-day-of-school/
END:VEVENT
BEGIN:VEVENT
DTSTART;TZID=America/Denver:20250825T150000
DTEND;TZID=America/Denver:20250825T170000
DTSTAMP:20260425T093238
CREATED:20250626T165440Z
LAST-MODIFIED:20250626T165440Z
UID:31942-1756134000-1756141200@desmetschool.org
SUMMARY:Open House and Ice Cream Social
DESCRIPTION:Join Us for Open House & Ice Cream! \nCome meet your teacher\, explore your classroom\, and enjoy some ice cream! This free event is open to all students and their families. Staff will begin serving complimentary ice cream at 3:00 PM in the school cafeteria. The school will be open for the open house starting at 4:00 PM. We look forward to seeing you there!
URL:https://desmetschool.org/event/open-house-and-ice-cream-social/
END:VEVENT
BEGIN:VEVENT
DTSTART;TZID=America/Denver:20250827T081700
DTEND;TZID=America/Denver:20250827T081700
DTSTAMP:20260425T093238
CREATED:20250626T170626Z
LAST-MODIFIED:20250626T170651Z
UID:31946-1756282620-1756282620@desmetschool.org
SUMMARY:EK(pre school)& Kinder Students First Day of School
DESCRIPTION:EK & Kindergarten will be 8:17 – 12:00. Breakfast will be served starting at 8:00 AM. Parents need to pick up their student(s) at noon\, following lunch.
URL:https://desmetschool.org/event/ekpre-school-kinder-students-first-day-of-school/
END:VEVENT
BEGIN:VEVENT
DTSTART;TZID=America/Denver:20250827T081700
DTEND;TZID=America/Denver:20250827T153000
DTSTAMP:20260425T093238
CREATED:20250626T170148Z
LAST-MODIFIED:20250626T170148Z
UID:31944-1756282620-1756308600@desmetschool.org
SUMMARY:First Day of School Grades 1-8
DESCRIPTION:School starts today at 8:17 and ends at 3:30. Breakfast will be served starting at 8:00am.
URL:https://desmetschool.org/event/first-day-of-school-grades-1-8/
END:VEVENT
BEGIN:VEVENT
DTSTART;TZID=America/Denver:20250828T081700
DTEND;TZID=America/Denver:20250828T120000
DTSTAMP:20260425T093238
CREATED:20250626T170838Z
LAST-MODIFIED:20250626T170838Z
UID:31948-1756369020-1756382400@desmetschool.org
SUMMARY:EK & Kinder Half Day
DESCRIPTION:EK & Kindergarten will be 8:17 – 12:00. Breakfast will be served starting at 8:00 AM. Parents need to pick up their student(s) at noon\, following lunch.
URL:https://desmetschool.org/event/ek-kinder-half-day/
END:VEVENT
BEGIN:VEVENT
DTSTART;TZID=America/Denver:20250829T081700
DTEND;TZID=America/Denver:20250829T120000
DTSTAMP:20260425T093238
CREATED:20250626T170947Z
LAST-MODIFIED:20250626T170947Z
UID:31950-1756455420-1756468800@desmetschool.org
SUMMARY:EK & Kinders
DESCRIPTION:EK & Kindergarten will be 8:17 – 12:00. Breakfast will be served starting at 8:00 AM. Parents need to pick up their student(s) at noon\, following lunch.
URL:https://desmetschool.org/event/ek-kinders/
END:VEVENT
BEGIN:VEVENT
DTSTART;TZID=America/Denver:20250901T080000
DTEND;TZID=America/Denver:20250901T160000
DTSTAMP:20260425T093238
CREATED:20250626T171151Z
LAST-MODIFIED:20250626T171151Z
UID:31952-1756713600-1756742400@desmetschool.org
SUMMARY:No School ~ Labor Day
DESCRIPTION:
URL:https://desmetschool.org/event/no-school-labor-day-3/
END:VEVENT
BEGIN:VEVENT
DTSTART;TZID=America/Denver:20250925T081700
DTEND;TZID=America/Denver:20250925T123000
DTSTAMP:20260425T093238
CREATED:20250626T171311Z
LAST-MODIFIED:20250626T171311Z
UID:31954-1758788220-1758803400@desmetschool.org
SUMMARY:Half Day of School
DESCRIPTION:School is out for all grades at 12:30pm. Buses will be running.
URL:https://desmetschool.org/event/half-day-of-school/
END:VEVENT
BEGIN:VEVENT
DTSTART;TZID=America/Denver:20250926T080000
DTEND;TZID=America/Denver:20250926T160000
DTSTAMP:20260425T093238
CREATED:20250626T171342Z
LAST-MODIFIED:20250626T171342Z
UID:31956-1758873600-1758902400@desmetschool.org
SUMMARY:No School
DESCRIPTION:
URL:https://desmetschool.org/event/no-school-16/
END:VEVENT
BEGIN:VEVENT
DTSTART;TZID=America/Denver:20251015T080000
DTEND;TZID=America/Denver:20251017T160000
DTSTAMP:20260425T093238
CREATED:20250626T171515Z
LAST-MODIFIED:20250626T171515Z
UID:31958-1760515200-1760716800@desmetschool.org
SUMMARY:No School ~ PIR for staff
DESCRIPTION:
URL:https://desmetschool.org/event/no-school-pir-for-staff/
END:VEVENT
BEGIN:VEVENT
DTSTART;TZID=America/Denver:20251029T180000
DTEND;TZID=America/Denver:20251029T210000
DTSTAMP:20260425T093238
CREATED:20250904T193321Z
LAST-MODIFIED:20250917T193540Z
UID:32102-1761760800-1761771600@desmetschool.org
SUMMARY:Bingo Night at DeSmet School 6-8pm!
DESCRIPTION:A fun-filled night of Bingo! This fundraiser is organized by the 8th-grade students to support their trip to Washington\, D.C.
URL:https://desmetschool.org/event/bingo-night-at-desmet-school/
END:VEVENT
BEGIN:VEVENT
DTSTART;TZID=America/Denver:20251113T081700
DTEND;TZID=America/Denver:20251113T123000
DTSTAMP:20260425T093238
CREATED:20250626T172014Z
LAST-MODIFIED:20250626T172014Z
UID:31964-1763021820-1763037000@desmetschool.org
SUMMARY:School is out at 12:30
DESCRIPTION:Buses are running. Parent/Teacher conferences will begin at 12:45.
URL:https://desmetschool.org/event/school-is-out-at-1230/
END:VEVENT
BEGIN:VEVENT
DTSTART;TZID=America/Denver:20251113T124500
DTEND;TZID=America/Denver:20251113T190000
DTSTAMP:20260425T093238
CREATED:20250626T171811Z
LAST-MODIFIED:20250626T171811Z
UID:31962-1763037900-1763060400@desmetschool.org
SUMMARY:Parent/Teacher Conferences
DESCRIPTION:School is out at 12:30. Buses will be running.
URL:https://desmetschool.org/event/parent-teacher-conferences-4/
END:VEVENT
BEGIN:VEVENT
DTSTART;TZID=America/Denver:20251114T081700
DTEND;TZID=America/Denver:20251114T153000
DTSTAMP:20260425T093238
CREATED:20250626T172058Z
LAST-MODIFIED:20250626T172058Z
UID:31966-1763108220-1763134200@desmetschool.org
SUMMARY:No School
DESCRIPTION:
URL:https://desmetschool.org/event/no-school-17/
END:VEVENT
BEGIN:VEVENT
DTSTART;TZID=America/Denver:20251126T080000
DTEND;TZID=America/Denver:20251128T160000
DTSTAMP:20260425T093238
CREATED:20250626T172756Z
LAST-MODIFIED:20250626T172809Z
UID:31968-1764144000-1764345600@desmetschool.org
SUMMARY:Thanksgiving Break ~ No school
DESCRIPTION:
URL:https://desmetschool.org/event/thanksgiving-break/
END:VEVENT
BEGIN:VEVENT
DTSTART;TZID=America/Denver:20251204T081700
DTEND;TZID=America/Denver:20251204T123000
DTSTAMP:20260425T093238
CREATED:20251202T155037Z
LAST-MODIFIED:20251202T155037Z
UID:32466-1764836220-1764851400@desmetschool.org
SUMMARY:Early Release @ 12:30
DESCRIPTION:Buses will be running and so will the boys and girls club.
URL:https://desmetschool.org/event/early-release-1230-4/
END:VEVENT
BEGIN:VEVENT
DTSTART;TZID=America/Denver:20251211T010000
DTEND;TZID=America/Denver:20251211T010000
DTSTAMP:20260425T093238
CREATED:20251202T160103Z
LAST-MODIFIED:20251202T160103Z
UID:32468-1765414800-1765414800@desmetschool.org
SUMMARY:Pre K - 8th Grade Winter Concert @1:00pm
DESCRIPTION:There will be no bus service in the afternoon. Parents or guardians must pick up their students at the end of the Concert. If your student attends the Boys and Girls Club\, they may be dropped off there after the program.
URL:https://desmetschool.org/event/pre-k-8th-grade-winter-concert-100pm/
END:VEVENT
BEGIN:VEVENT
DTSTART;TZID=America/Denver:20251222T080000
DTEND;TZID=America/Denver:20260102T160000
DTSTAMP:20260425T093238
CREATED:20250626T172911Z
LAST-MODIFIED:20250626T172911Z
UID:31971-1766390400-1767369600@desmetschool.org
SUMMARY:Winter Break ~ No School
DESCRIPTION:
URL:https://desmetschool.org/event/winter-break-no-school-2/
END:VEVENT
END:VCALENDAR