BEGIN:VCALENDAR
VERSION:2.0
PRODID:-//DeSmet Public School - ECPv6.15.20//NONSGML v1.0//EN
CALSCALE:GREGORIAN
METHOD:PUBLISH
X-WR-CALNAME:DeSmet Public School
X-ORIGINAL-URL:https://desmetschool.org
X-WR-CALDESC:Events for DeSmet Public School
REFRESH-INTERVAL;VALUE=DURATION:PT1H
X-Robots-Tag:noindex
X-PUBLISHED-TTL:PT1H
BEGIN:VTIMEZONE
TZID:America/Denver
BEGIN:DAYLIGHT
TZOFFSETFROM:-0700
TZOFFSETTO:-0600
TZNAME:MDT
DTSTART:20250309T090000
END:DAYLIGHT
BEGIN:STANDARD
TZOFFSETFROM:-0600
TZOFFSETTO:-0700
TZNAME:MST
DTSTART:20251102T080000
END:STANDARD
BEGIN:DAYLIGHT
TZOFFSETFROM:-0700
TZOFFSETTO:-0600
TZNAME:MDT
DTSTART:20260308T090000
END:DAYLIGHT
BEGIN:STANDARD
TZOFFSETFROM:-0600
TZOFFSETTO:-0700
TZNAME:MST
DTSTART:20261101T080000
END:STANDARD
BEGIN:DAYLIGHT
TZOFFSETFROM:-0700
TZOFFSETTO:-0600
TZNAME:MDT
DTSTART:20270314T090000
END:DAYLIGHT
BEGIN:STANDARD
TZOFFSETFROM:-0600
TZOFFSETTO:-0700
TZNAME:MST
DTSTART:20271107T080000
END:STANDARD
END:VTIMEZONE
BEGIN:VEVENT
DTSTART;TZID=America/Denver:20260521T130000
DTEND;TZID=America/Denver:20260521T143000
DTSTAMP:20260424T130723
CREATED:20251202T161218Z
LAST-MODIFIED:20260319T153706Z
UID:32475-1779368400-1779373800@desmetschool.org
SUMMARY:Pre K - 8th grade Spring Concert @1:00
DESCRIPTION:There will be no bus service in the afternoon. Parents or guardians must pick up their students after the program. If your student attends the Boys and Girls Club\, they may be dropped off there after the program.
URL:https://desmetschool.org/event/pre-k-8th-grade-spring-concert-100/
END:VEVENT
END:VCALENDAR